BEGIN:VCALENDAR
VERSION:2.0
CALSCALE:GREGORIAN
PRODID:-//Diputació de Barcelona//DibaCMS//EN
BEGIN:VEVENT
UID:15812
DTSTAMP:20260421T123021
DTSTART:20260209T170000
DTEND:20260209T200000
SUMMARY:Punt de trobada
LOCATION:08107 Martorelles
METHOD:PUBLISH
X-WR-CALNAME:web@martorelles.cat
X-WR-TIMEZONE:Europe/Madrid
DESCRIPTION:Activitat per a joves a partir de 12 anys. 

URI:https://www.martorelles.cat/informat/agenda/15812-punt-de-trobada.html
CLASS:PUBLIC
END:VEVENT
END:VCALENDAR
