BEGIN:VCALENDAR
VERSION:2.0
CALSCALE:GREGORIAN
PRODID:-//Diputació de Barcelona//DibaCMS//EN
BEGIN:VEVENT
UID:15958
DTSTAMP:20260426T032610
DTSTART:20260128T180000
DTEND:20260128T190000
SUMMARY:Biblioteràpia
LOCATION:Carrer de Santiago Tiffón, 21  08107 Martorelles
METHOD:PUBLISH
X-WR-CALNAME:web@martorelles.cat
X-WR-TIMEZONE:Europe/Madrid
DESCRIPTION:Recomanacions literàries a càrrec de Laura Garcia. 

URI:https://www.martorelles.cat/informat/agenda/15958-biblioterapia.html
CLASS:PUBLIC
END:VEVENT
END:VCALENDAR
