BEGIN:VCALENDAR
VERSION:2.0
CALSCALE:GREGORIAN
PRODID:-//Diputació de Barcelona//DibaCMS//EN
BEGIN:VEVENT
UID:15959
DTSTAMP:20260426T051233
DTSTART:20260122T180000
DTEND:20260122T200000
SUMMARY:Trobada Fem Safareig
LOCATION:Parc de Can Sunyer 08107 Martorelles
METHOD:PUBLISH
X-WR-CALNAME:web@martorelles.cat
X-WR-TIMEZONE:Europe/Madrid
DESCRIPTION:Segona trobada del grup de treball. 

URI:https://www.martorelles.cat/informat/agenda/trobada-fem-safareig.html
CLASS:PUBLIC
END:VEVENT
END:VCALENDAR
