BEGIN:VCALENDAR
VERSION:2.0
CALSCALE:GREGORIAN
PRODID:-//Diputació de Barcelona//DibaCMS//EN
BEGIN:VEVENT
UID:15962
DTSTAMP:20260426T051402
DTSTART:20260121T170000
DTEND:20260121T200000
SUMMARY:Aula d'estudi
LOCATION:08107 Martorelles
METHOD:PUBLISH
X-WR-CALNAME:web@martorelles.cat
X-WR-TIMEZONE:Europe/Madrid
DESCRIPTION:Activitat per a joves a partir de 12 anys. 

URI:https://www.martorelles.cat/informat/agenda/15962-aula-destudi.html
CLASS:PUBLIC
END:VEVENT
END:VCALENDAR
