BEGIN:VCALENDAR
VERSION:2.0
CALSCALE:GREGORIAN
PRODID:-//Diputació de Barcelona//DibaCMS//EN
BEGIN:VEVENT
UID:16232
DTSTAMP:20260424T144110
DTSTART:20260504T173000
DTEND:20260504T180500
SUMMARY:Hora del conte menuda: Xirimiri de contes i cançons
LOCATION:Carrer de Santiago Tiffón, 21  08107 Martorelles
METHOD:PUBLISH
X-WR-CALNAME:web@martorelles.cat
X-WR-TIMEZONE:Europe/Madrid
DESCRIPTION:A càrrec d'Elena Codó i per a famílies amb infants d'1 a 3 anys.

URI:https://www.martorelles.cat/informat/agenda/hora-del-conte-menuda-xirimiri-de-contes-i-cancons.html
CLASS:PUBLIC
END:VEVENT
END:VCALENDAR
