BEGIN:VCALENDAR
VERSION:2.0
CALSCALE:GREGORIAN
PRODID:-//Diputació de Barcelona//DibaCMS//EN
BEGIN:VEVENT
UID:16242
DTSTAMP:20260425T185820
DTSTART:20260518T093000
DTEND:20260518T120000
SUMMARY:Setmana esportiva escolar
LOCATION:Carrer de Can Puig, s/n 08107 Martorelles
METHOD:PUBLISH
X-WR-CALNAME:web@martorelles.cat
X-WR-TIMEZONE:Europe/Madrid
DESCRIPTION:Escola bressol i escoles (de 2 a 6 anys).

URI:https://www.martorelles.cat/informat/agenda/16242-setmana-esportiva-escolar.html
CLASS:PUBLIC
END:VEVENT
END:VCALENDAR
