BEGIN:VCALENDAR
VERSION:2.0
CALSCALE:GREGORIAN
PRODID:-//Diputació de Barcelona//DibaCMS//EN
BEGIN:VEVENT
UID:16243
DTSTAMP:20260425T192329
DTSTART:20260519T091500
DTEND:20260519T121500
SUMMARY:Setmana esportiva escolar
LOCATION:Carrer de Can Puig, s/n 08107 Martorelles
METHOD:PUBLISH
X-WR-CALNAME:web@martorelles.cat
X-WR-TIMEZONE:Europe/Madrid
DESCRIPTION:Escoles (de 6 a 12 anys)

URI:https://www.martorelles.cat/informat/agenda/16243-setmana-esportiva-escolar.html
CLASS:PUBLIC
END:VEVENT
END:VCALENDAR
