BEGIN:VCALENDAR
VERSION:2.0
CALSCALE:GREGORIAN
PRODID:-//Diputació de Barcelona//DibaCMS//EN
BEGIN:VEVENT
UID:16244
DTSTAMP:20260425T191604
DTSTART:20260519T170000
DTEND:20260519T180000
SUMMARY:Olimpiades de l'Escola esportiva
LOCATION:Carrer de Can Puig, s/n 08107 Martorelles
METHOD:PUBLISH
X-WR-CALNAME:web@martorelles.cat
X-WR-TIMEZONE:Europe/Madrid
DESCRIPTION:A càrrec dels nens i nenes que participen a l'escola esportiva municipal. 

URI:https://www.martorelles.cat/informat/agenda/olimpiades-de-lescola-esportiva.html
CLASS:PUBLIC
END:VEVENT
END:VCALENDAR
