BEGIN:VCALENDAR
VERSION:2.0
CALSCALE:GREGORIAN
PRODID:-//Diputació de Barcelona//DibaCMS//EN
BEGIN:VEVENT
UID:16246
DTSTAMP:20260425T172811
DTSTART:20260521T093000
DTEND:20260521T103000
SUMMARY:Classes obertes de gimnàstica del matí
LOCATION:Carrer de Can Puig, s/n 08107 Martorelles
METHOD:PUBLISH
X-WR-CALNAME:web@martorelles.cat
X-WR-TIMEZONE:Europe/Madrid
DESCRIPTION:Activitat a càrrec del personal de l'ajuntament. Sessió gratuïta. 

URI:https://www.martorelles.cat/informat/agenda/classes-obertes-de-gimnastica-del-mati.html
CLASS:PUBLIC
END:VEVENT
END:VCALENDAR
