BEGIN:VCALENDAR
VERSION:2.0
CALSCALE:GREGORIAN
PRODID:-//Diputació de Barcelona//DibaCMS//EN
BEGIN:VEVENT
UID:16247
DTSTAMP:20260425T171137
DTSTART:20260521T170000
DTEND:20260521T180000
SUMMARY:Exhibició de l'Escola esportiva
LOCATION:Carrer de Can Puig, s/n 08107 Martorelles
METHOD:PUBLISH
X-WR-CALNAME:web@martorelles.cat
X-WR-TIMEZONE:Europe/Madrid
DESCRIPTION:A càrrec dels nens i nenes que participen a l'escola esportiva municipal. 

URI:https://www.martorelles.cat/informat/agenda/16247-exhibicio-de-lescola-esportiva.html
CLASS:PUBLIC
END:VEVENT
END:VCALENDAR
