BEGIN:VCALENDAR
VERSION:2.0
CALSCALE:GREGORIAN
PRODID:-//Diputació de Barcelona//DibaCMS//EN
BEGIN:VEVENT
UID:16250
DTSTAMP:20260425T172518
DTSTART:20260522T170000
DTEND:20260522T210000
SUMMARY:3x3 de bàsquet
LOCATION:Carrer de Can Puig, s/n 08107 Martorelles
METHOD:PUBLISH
X-WR-CALNAME:web@martorelles.cat
X-WR-TIMEZONE:Europe/Madrid
DESCRIPTION:Activitat a càrrec del personal de l'ajuntament coordinat amb la UE Bàsquet Martorelles. 

URI:https://www.martorelles.cat/informat/agenda/16250-3x3-de-basquet.html
CLASS:PUBLIC
END:VEVENT
END:VCALENDAR
