BEGIN:VCALENDAR
VERSION:2.0
CALSCALE:GREGORIAN
PRODID:-//Diputació de Barcelona//DibaCMS//EN
BEGIN:VEVENT
UID:16251
DTSTAMP:20260425T175339
DTSTART:20260523T170000
DTEND:20260523T190000
SUMMARY:Exhibició Campionat de karate
LOCATION:Carrer de Can Puig, s/n 08107 Martorelles
METHOD:PUBLISH
X-WR-CALNAME:web@martorelles.cat
X-WR-TIMEZONE:Europe/Madrid
DESCRIPTION:Activitat a càrrec del Club Karate Martorelles. 

URI:https://www.martorelles.cat/informat/agenda/16251-exhibicio-campionat-de-karate.html
CLASS:PUBLIC
END:VEVENT
END:VCALENDAR
