BEGIN:VCALENDAR
VERSION:2.0
CALSCALE:GREGORIAN
PRODID:-//Diputació de Barcelona//DibaCMS//EN
BEGIN:VEVENT
UID:16257
DTSTAMP:20260424T170739
DTSTART:20260529T220000
DTEND:20260529T220000
SUMMARY:Concert de Primavera
LOCATION:Carrer del Parc 08107 Martorelles
METHOD:PUBLISH
X-WR-CALNAME:web@martorelles.cat
X-WR-TIMEZONE:Europe/Madrid
DESCRIPTION:En el programa de la Festa de primavera de l'AVV de Can Sunyer. 

URI:https://www.martorelles.cat/informat/agenda/16257-concert-de-primavera.html
CLASS:PUBLIC
END:VEVENT
END:VCALENDAR
