BEGIN:VCALENDAR
VERSION:2.0
CALSCALE:GREGORIAN
PRODID:-//Diputació de Barcelona//DibaCMS//EN
BEGIN:VEVENT
UID:16258
DTSTAMP:20260424T170246
DTSTART:20260530T100000
DTEND:20260530T230000
SUMMARY:Festa de la Primavera
LOCATION:Carrer del Parc 08107 Martorelles
METHOD:PUBLISH
X-WR-CALNAME:web@martorelles.cat
X-WR-TIMEZONE:Europe/Madrid
DESCRIPTION:Organitzada per l'AVV de Can Sunyer. 

URI:https://www.martorelles.cat/informat/agenda/16258-festa-de-la-primavera.html
CLASS:PUBLIC
END:VEVENT
END:VCALENDAR
