BEGIN:VCALENDAR
VERSION:2.0
CALSCALE:GREGORIAN
PRODID:-//Diputació de Barcelona//DibaCMS//EN
BEGIN:VEVENT
UID:16259
DTSTAMP:20260424T170518
DTSTART:20260531T100000
DTEND:20260531T200000
SUMMARY:Festa de la Primavera
LOCATION:Carrer del Parc 08107 Martorelles
METHOD:PUBLISH
X-WR-CALNAME:web@martorelles.cat
X-WR-TIMEZONE:Europe/Madrid
DESCRIPTION:Organitzada per l'AVV de Can Sunyer. 

URI:https://www.martorelles.cat/informat/agenda/16259-festa-de-la-primavera.html
CLASS:PUBLIC
END:VEVENT
END:VCALENDAR
