BEGIN:VCALENDAR
VERSION:2.0
CALSCALE:GREGORIAN
PRODID:-//Diputació de Barcelona//DibaCMS//EN
BEGIN:VEVENT
UID:16264
DTSTAMP:20260423T155051
DTSTART:20260508T170000
DTEND:20260508T200000
SUMMARY:Nintendo FIFA
LOCATION:08107 Martorelles
METHOD:PUBLISH
X-WR-CALNAME:web@martorelles.cat
X-WR-TIMEZONE:Europe/Madrid
DESCRIPTION:Activitat per a joves de 12 a 25 anys. 

URI:https://www.martorelles.cat/informat/agenda/16264-nintendo-fifa.html
CLASS:PUBLIC
END:VEVENT
END:VCALENDAR
