BEGIN:VCALENDAR
VERSION:2.0
CALSCALE:GREGORIAN
PRODID:-//Diputació de Barcelona//DibaCMS//EN
BEGIN:VEVENT
UID:16265
DTSTAMP:20260423T141619
DTSTART:20260502T100000
DTEND:20260502T130000
SUMMARY:Jocs de taula
LOCATION:08107 Martorelles
METHOD:PUBLISH
X-WR-CALNAME:web@martorelles.cat
X-WR-TIMEZONE:Europe/Madrid
DESCRIPTION:Activitat per a joves de 12 a 25 anys. 

URI:https://www.martorelles.cat/informat/agenda/16265-jocs-de-taula.html
CLASS:PUBLIC
END:VEVENT
END:VCALENDAR
