BEGIN:VCALENDAR
VERSION:2.0
CALSCALE:GREGORIAN
PRODID:-//Diputació de Barcelona//DibaCMS//EN
BEGIN:VEVENT
UID:16271
DTSTAMP:20260423T155153
DTSTART:20260527T170000
DTEND:20260527T200000
SUMMARY:Aula d'estudi  
LOCATION:08107 Martorelles
METHOD:PUBLISH
X-WR-CALNAME:web@martorelles.cat
X-WR-TIMEZONE:Europe/Madrid
DESCRIPTION:Activitat per a joves de 12 a 25 anys. 

URI:https://www.martorelles.cat/informat/agenda/16271-aula-destudi-.html
CLASS:PUBLIC
END:VEVENT
END:VCALENDAR
