BEGIN:VCALENDAR
VERSION:2.0
CALSCALE:GREGORIAN
PRODID:-//Diputació de Barcelona//DibaCMS//EN
BEGIN:VEVENT
UID:16276
DTSTAMP:20260423T141548
DTSTART:20260518T170000
DTEND:20260518T200000
SUMMARY:Punt de trobada
LOCATION:08107 Martorelles
METHOD:PUBLISH
X-WR-CALNAME:web@martorelles.cat
X-WR-TIMEZONE:Europe/Madrid
DESCRIPTION:Activitat per a joves de 12 a 25 anys. 

URI:https://www.martorelles.cat/informat/agenda/16276-punt-de-trobada.html
CLASS:PUBLIC
END:VEVENT
END:VCALENDAR
