BEGIN:VCALENDAR
VERSION:2.0
CALSCALE:GREGORIAN
PRODID:-//Diputació de Barcelona//DibaCMS//EN
BEGIN:VEVENT
UID:16281
DTSTAMP:20260423T170440
DTSTART:20260526T170000
DTEND:20260526T200000
SUMMARY:Taller de coral 
LOCATION:08107 Martorelles
METHOD:PUBLISH
X-WR-CALNAME:web@martorelles.cat
X-WR-TIMEZONE:Europe/Madrid
DESCRIPTION:Activitat per a joves de 12 a 25 anys. 

URI:https://www.martorelles.cat/informat/agenda/16281-taller-de-coral-.html
CLASS:PUBLIC
END:VEVENT
END:VCALENDAR
