BEGIN:VCALENDAR
VERSION:2.0
CALSCALE:GREGORIAN
PRODID:-//Diputació de Barcelona//DibaCMS//EN
BEGIN:VEVENT
UID:16282
DTSTAMP:20260423T141642
DTSTART:20260509T100000
DTEND:20260509T130000
SUMMARY:Matí de crispetes
LOCATION:08107 Martorelles
METHOD:PUBLISH
X-WR-CALNAME:web@martorelles.cat
X-WR-TIMEZONE:Europe/Madrid
DESCRIPTION:Activitat per a joves de 12 a 25 anys. 

URI:https://www.martorelles.cat/informat/agenda/16282-mati-de-crispetes.html
CLASS:PUBLIC
END:VEVENT
END:VCALENDAR
