BEGIN:VCALENDAR
VERSION:2.0
CALSCALE:GREGORIAN
PRODID:-//Diputació de Barcelona//DibaCMS//EN
BEGIN:VEVENT
UID:16286
DTSTAMP:20260423T154231
DTSTART:20260521T170000
DTEND:20260521T200000
SUMMARY:Kahoot!
LOCATION:08107 Martorelles
METHOD:PUBLISH
X-WR-CALNAME:web@martorelles.cat
X-WR-TIMEZONE:Europe/Madrid
DESCRIPTION:Activitat per a joves de 12 a 25 anys. 

URI:https://www.martorelles.cat/informat/agenda/16286-kahoot.html
CLASS:PUBLIC
END:VEVENT
END:VCALENDAR
