BEGIN:VCALENDAR
VERSION:2.0
CALSCALE:GREGORIAN
PRODID:-//Diputació de Barcelona//DibaCMS//EN
BEGIN:VEVENT
UID:16289
DTSTAMP:20260425T220407
DTSTART:20260429T180000
DTEND:20260429T190000
SUMMARY:Reunió Casal d'estiu 2026
LOCATION:Avinguda d'en Piera, 3 - 27. Espai de Carrencà 08107 Martorelles
METHOD:PUBLISH
X-WR-CALNAME:web@martorelles.cat
X-WR-TIMEZONE:Europe/Madrid
DESCRIPTION:Reunió informativa amb personal municipal i representant de Lleureactivity. 

URI:https://www.martorelles.cat/informat/agenda/reunio-casal-destiu-2026.html
CLASS:PUBLIC
END:VEVENT
END:VCALENDAR
